BEGIN:VCALENDAR
VERSION:2.0
PRODID:-//eventon.com NONSGML v1.0//EN
BEGIN:VEVENT
UID:69e61de2b6138
DTSTAMP:20260420T133650
DTSTART:20260424T190000Z
DTEND:20260424T225000Z
TZID:Europe/London
LOCATION:Joseph Meyerhoff Symphony Hall\,  Baltimore 
SUMMARY:Maryland\,  USA
DESCRIPTION: LESHNOFF: Starburst BLOCH: Schelomo: Hebraic Rhapsody TCHAIKOVSKY: Symphony No. 5 Sheku Kanneh-Mason\,  cello Baltimore Symphony Orchestra
URL:https://jonathonheyward.com/events/maryland-usa-26
END:VEVENT
END:VCALENDAR